BEGIN:VCALENDAR
VERSION:2.0
PRODID:-//wp-events-plugin.com//7.2.3.1//EN
TZID:Europe/Rome
X-WR-TIMEZONE:Europe/Rome
BEGIN:VEVENT
UID:7@progresinformatica.com
DTSTART;TZID=Europe/Rome:20221027T143000
DTEND;TZID=Europe/Rome:20221027T180000
DTSTAMP:20220929T074159Z
URL:https://progresinformatica.com/events/40-progres-i-6-strumenti-per-ris
 parmiare/
SUMMARY:40° Progres: I 6 strumenti per Risparmiare
DESCRIPTION:
LOCATION:Hotel Novotel Brescia 2\, Via Pietro Nenni\, 22\, Brescia\, Italia
GEO:45.526624;10.219406
X-APPLE-STRUCTURED-LOCATION;VALUE=URI;X-ADDRESS=Via Pietro Nenni\, 22\, Bre
 scia\, Italia;X-APPLE-RADIUS=100;X-TITLE=Hotel Novotel Brescia 2:geo:45.52
 6624,10.219406
END:VEVENT
BEGIN:VTIMEZONE
TZID:Europe/Rome
X-LIC-LOCATION:Europe/Rome
BEGIN:DAYLIGHT
DTSTART:20220327T030000
TZOFFSETFROM:+0100
TZOFFSETTO:+0200
TZNAME:CEST
END:DAYLIGHT
END:VTIMEZONE
END:VCALENDAR