BEGIN:VCALENDAR
VERSION:2.0
PRODID:-//wp-events-plugin.com//7.2.3.1//EN
TZID:Europe/Rome
X-WR-TIMEZONE:Europe/Rome
BEGIN:VEVENT
UID:9@progresinformatica.com
DTSTART;TZID=Europe/Rome:20230406T160000
DTEND;TZID=Europe/Rome:20230406T180000
DTSTAMP:20230324T153436Z
URL:https://progresinformatica.com/events/contabilita-tesoreria/
SUMMARY:Contabilità: Tesoreria
DESCRIPTION:\nArgomento del corso:\nContabilità: Tesoreria\n\n 	Mandati di
  Pagamento ai Fornitori\n 	Avvisi di Scadenza ai Clienti\n 	Lettere di Sol
 lecito\n 	Emissione Ricevute Bancarie\n 	Gestione degli Insoluti\n 	Calcol
 o Interessi di Mora\n 	Anticipi Fatture\n 	Anticipi Commesse\n\n\nIl corso
  è gratuito
LOCATION:Sede Progres Informatica\, Via G. B. Cacciamali 61/i\, Brescia\, 2
 5125\, Lombardia\, Italia
GEO:45.519127;10.176216
X-APPLE-STRUCTURED-LOCATION;VALUE=URI;X-ADDRESS=Via G. B. Cacciamali 61/i\,
  Brescia\, 25125\, Lombardia\, Italia;X-APPLE-RADIUS=100;X-TITLE=Sede Prog
 res Informatica:geo:45.519127,10.176216
END:VEVENT
BEGIN:VTIMEZONE
TZID:Europe/Rome
X-LIC-LOCATION:Europe/Rome
BEGIN:DAYLIGHT
DTSTART:20230326T030000
TZOFFSETFROM:+0100
TZOFFSETTO:+0200
TZNAME:CEST
END:DAYLIGHT
END:VTIMEZONE
END:VCALENDAR