BEGIN:VCALENDAR
VERSION:2.0
PRODID:-//wp-events-plugin.com//7.2.3.1//EN
TZID:Europe/Rome
X-WR-TIMEZONE:Europe/Rome
BEGIN:VEVENT
UID:13@progresinformatica.com
DTSTART;TZID=Europe/Rome:20230928T150000
DTEND;TZID=Europe/Rome:20230928T180000
DTSTAMP:20230914T131604Z
URL:https://progresinformatica.com/events/produzione-mes-seconda-parte/
SUMMARY:Produzione: MES (Seconda Parte)
DESCRIPTION:\nArgomento del corso:\nProduzione: MES (Prima Parte)\n\n\n 	Ra
 ggruppamento Fasi\n\n\n\n\n 	Attività Operatori\n\n\n\n\n 	Calcolo Sovrap
 posizione\n\n\n\n\n 	Quadratura\n\n\n\n\n 	Gantt Celle\n\n\n\n\n 	Pannello
  Sinottico\n\n\n\n\n 	Planimetria Aziendale\n\n\n\n\n 	Pannello MES\n\n\n\
 nIl corso ha un costo di 90€ al primo iscritto di ogni azienda + 50€ p
 er ogni iscritto aggiuntivo della stessa azienda.
LOCATION:Sede Progres Informatica\, Via G. B. Cacciamali 61/i\, Brescia\, 2
 5125\, Lombardia\, Italia
GEO:45.519127;10.176216
X-APPLE-STRUCTURED-LOCATION;VALUE=URI;X-ADDRESS=Via G. B. Cacciamali 61/i\,
  Brescia\, 25125\, Lombardia\, Italia;X-APPLE-RADIUS=100;X-TITLE=Sede Prog
 res Informatica:geo:45.519127,10.176216
END:VEVENT
BEGIN:VTIMEZONE
TZID:Europe/Rome
X-LIC-LOCATION:Europe/Rome
BEGIN:DAYLIGHT
DTSTART:20230326T030000
TZOFFSETFROM:+0100
TZOFFSETTO:+0200
TZNAME:CEST
END:DAYLIGHT
END:VTIMEZONE
END:VCALENDAR